BEGIN:VCALENDAR
VERSION:2.0
PRODID:-//Animal Flow - ECPv6.15.12.2//NONSGML v1.0//EN
CALSCALE:GREGORIAN
METHOD:PUBLISH
X-ORIGINAL-URL:https://animalflow.com
X-WR-CALDESC:Events for Animal Flow
REFRESH-INTERVAL;VALUE=DURATION:PT1H
X-Robots-Tag:noindex
X-PUBLISHED-TTL:PT1H
BEGIN:VTIMEZONE
TZID:America/Mexico_City
BEGIN:STANDARD
TZOFFSETFROM:-0600
TZOFFSETTO:-0600
TZNAME:CST
DTSTART:20230101T000000
END:STANDARD
END:VTIMEZONE
BEGIN:VEVENT
DTSTART;VALUE=DATE:20240803
DTEND;VALUE=DATE:20240805
DTSTAMP:20260419T233759
CREATED:20240501T152749Z
LAST-MODIFIED:20240716T201022Z
UID:10000641-1722643200-1722815999@animalflow.com
SUMMARY:Animal Flow Nivel 1 Ciudad de México (Aug)
DESCRIPTION:Únase a nosotros para el Taller Animal Flow® Nivel 1 en Ciudad de México\, México\, del 3-4\, de agosto de 2024. El evento de dos días es de siete horas cada día\, de 10:30am a 5:30pm los sábado y domingo. Se llevará a cabo en Wolf Del Valle en la Ciudad de México. Este taller será impartido en español\, por el Maestro de Animal Flow\, Freddy Satizabal.  \nSobre el curso\nL1 es un taller intensivo de dos días en el que aprenderás los 30 movimientos del Nivel 1\, que incluyen regresiones\, progresiones y variaciones para todos los niveles de habilidad. Usted está viendo cómo hacerlo usted mismo\, así como cómo hacerlo. \nEl taller está abierto a profesionales del fitness y no profesionales\, ya que damos la bienvenida a todos los interesados ​​en convertirse en un mejor motor. Los profesionales del acondicionamiento físico son elegibles para convertirse en instructores certificados de AF\, que pueden enseñar AF en entrenamiento personal\, clases grupales de acondicionamiento físico u otros programas de acondicionamiento físico. Obtener la certificación requiere completar el proceso de prueba después del taller. Todos los no profesionales son bienvenidos a tomar el curso para su propio beneficio\, pero no están autorizados a enseñarlo sin antes obtener una credencial de aptitud física adecuada. Puede encontrar los detalles sobre el proceso de certificación y los beneficios AQUÍ. \nCubrirás los 6 elementos del Animal Flow (el ABC de los movimientos de animales); Interruptores y Transiciones; Movilidad de la muñeca; activaciones; Formar Estiramientos Específicos\, y\, por supuesto\, Flows. El taller comienza con posiciones de base\, que sistemáticamente aumentan los dos días. Los movimientos se enseñan en el contexto de la ciencia y la tecnología. \nLea acerca de los Seis componentes del Animal Flow\, las actividades específicas cubiertas en el taller y más información sobre el Nivel 1 en general AQUÍ. \nQué está incluido\nSu registro incluye: \n\nCopia del Manual del estudiante.\nAcceso a la biblioteca completa de videos tutoriales para movimientos de Nivel 1. Los videos están en inglés con subtítulos en español.\nAcceso al grupo privado de Facebook de Instructores de AF.\nAcceda a la serie de tutoriales de Mike Fitch en la que se repasa el lenguaje de Call Out utilizado en AF.\nCertificado de finalización\, incluida la prueba de participación para los créditos de educación continua.\nTarifa de instructores especiales para suscripción al canal Animal Flow On Demand\n\nPreparación del taller:\nEl taller está abierto a personas de todos los niveles. Debes estar físicamente en forma para soportar tu propio peso corporal en posición cuadrúpedo\, y tener autorización médica para participar en actividades físicas. \nAl registrarse\, recibirá un video de bienvenida con algunos ejercicios de práctica para ayudarlo a preparar sus muñecas para el curso. \nCréditos de Educación Continua\nEl curso de Nivel 1 está aprobado para proporcionar créditos de educación continua de: National Academy of Sports Medicine (NASM) 1.1 CEUs; Athletics and Fitness Association of America (AFAA) 11 CEUs; UK Registered Exercice Professioanla (REPS) from PD:Approval 10 CPD; New Zealand Registered Exercise Professionals (REPs) 13.75 5 CPDs; UAE REPS; Canfitpro – 8 canfitpro CECs (Assesement & Exercise Portion: 4 PTS; Program Design Portion: 4 PTS); Fitness Australia – 9 CECs pending renewal; Physical Activity Australia 3 PDPs. \nInstructor\nEste taller será impartido por el Maestro de Animal Flow\, Freddy Satizabal. (¡Lee sobre Freddy AQUÍ!) Freddy el taller en español. Habrá traducción al inglés disponible. \nSe llevará a cabo en Wolf Del Valle en la ciudad de Ciudad de México. \nOpciones de costo y plan de pago:\n\nEl precio regular del taller de Nivel 1 es una tarifa de $ 695 USD. Puede registrarse precio especial super anticipado de $ 595 USD hasta el 13 de julio. Además\, puede registrarse a una tarifa anticipada de $ 645 USD hasta el 27 de julio.\nOpción de plan de pago: pagar el 50% para registrarse. El saldo vence el 13 de julio. Pagos del saldo adeudados antes del 20 de julio (dos semanas antes del taller)\n\nCancelaciones / reembolsos:\nSi necesita cancelar su taller u otro registro de evento\, puede ser elegible para un reembolso parcial\, según el tiempo que falte al evento\, de acuerdo con los siguientes términos. Tenga en cuenta que programamos el viaje y el tiempo del instructor en función de la cantidad de registros con varios meses de anticipación\, por lo que no podemos ofrecer reembolsos completos si debe cancelar. \nSi debe cancelar debido a un conflicto\, una emergencia (que incluye\, entre otros\, tener COVID) u otro motivo\, tiene la opción de transferir su registro a un futuro evento en línea o presencial.\nSi solicita un reembolso en efectivo\, el monto del reembolso depende del tiempo hasta el evento. Para las inscripciones que han “pagado en su totalidad” (inscripción anticipada o regular)\, se realizan reembolsos menos una tarifa de procesamiento de $15\, de acuerdo con el siguiente cronograma: 60 días o más hasta el evento: 100%; 45-60 días 75%; 30-45 días: 50%; 15-29 días: 25%; dos semanas o menos hasta el evento: $0. Las solicitudes de reembolso en efectivo deben realizarse dentro de las dos semanas posteriores a su cancelación.\nDe lo contrario\, se le proporcionará un crédito de transferencia para un taller futuro (el crédito vence en 1 año). Hay una tarifa de transferencia de $75. Cualquiera que cancele dentro de 1 semana del taller\, bajo cualquier circunstancia\, entrará automáticamente en esta categoría de transferencia. Sin excepciones.\nPara los depósitos de registro\, no se proporcionan reembolsos dentro de los 90 días posteriores al evento.\nPuede transferir su registro a otra persona\, aunque es su responsabilidad identificar a la persona y hacer los arreglos financieros directamente con ella.\nSi GBT cancela un evento por cualquier motivo\, se proporcionará un reembolso completo (sin tarifa de procesamiento).\nNo hay excepciones a está política de devoluciones.
URL:https://animalflow.com/event/l1_mexicocity_0824/
LOCATION:Wolf Del Valle\, Tejocotes 63\, Tlacoquemecatl del Valle\, Benito Juárez\, Ciudad de México\, CDMX\, 03200\, Mexico
CATEGORIES:All Workshops,Level 1 Instructor Certification,Mexico,MI Freddy,North & South America,Spanish
ATTACH;FMTTYPE=image/png:https://animalflow.com/wp-content/uploads/2024/01/Photo-Dec-13-2023-12-18-42-PM-1.png
ORGANIZER;CN="Global Bodyweight Training (AF HQ)":MAILTO:certifications@animalflow.com
GEO:19.3773664;-99.1766653
X-APPLE-STRUCTURED-LOCATION;VALUE=URI;X-ADDRESS=Wolf Del Valle Tejocotes 63 Tlacoquemecatl del Valle Benito Juárez Ciudad de México CDMX 03200 Mexico;X-APPLE-RADIUS=500;X-TITLE=Tejocotes 63\, Tlacoquemecatl del Valle\, Benito Juárez:geo:-99.1766653,19.3773664
END:VEVENT
END:VCALENDAR