BEGIN:VCALENDAR
VERSION:2.0
PRODID:-//Animal Flow - ECPv6.15.12.2//NONSGML v1.0//EN
CALSCALE:GREGORIAN
METHOD:PUBLISH
X-WR-CALNAME:Animal Flow
X-ORIGINAL-URL:https://animalflow.com
X-WR-CALDESC:Events for Animal Flow
REFRESH-INTERVAL;VALUE=DURATION:PT1H
X-Robots-Tag:noindex
X-PUBLISHED-TTL:PT1H
BEGIN:VTIMEZONE
TZID:Asia/Shanghai
BEGIN:STANDARD
TZOFFSETFROM:+0800
TZOFFSETTO:+0800
TZNAME:CST
DTSTART:20230101T000000
END:STANDARD
END:VTIMEZONE
BEGIN:VEVENT
DTSTART;VALUE=DATE:20240518
DTEND;VALUE=DATE:20240520
DTSTAMP:20260422T200856
CREATED:20231108T165243Z
LAST-MODIFIED:20231108T165243Z
UID:10000537-1715990400-1716163199@animalflow.com
SUMMARY:Animal Flow Level 1 Fuzhou / 福州 (May)
DESCRIPTION:2024 年 5 月 18 日至 19 日 Animal Flow® 1 1 8 小时，周六和周日上午 10:00 至晚上 18:00。认证 本次认证培训将由教练培训师 Chao “K” Zang 以中文授课，并配有现场中文翻译。 \nL1是一个集中在两天的认证培训（共16小时），在这里你将学习L1所有动作技术，包括退阶、进阶和动作的多种技术变化，共30个。你将探索在什么情况下通过什么方式运用每个动作，以及如何将它们连接到一起成为你自己设计的flow。 \n本认证培训对健身专业人士和非健身专业人士开放，我们欢迎每一位想要成为更好运动者的人。健身专业人士有资格成为Animal Flow认证教练，允许在私教课程、团体课程或其他健身计划中教授AF。成为认证教练，需要在认证培训之后完成评估测试。我们也欢迎所有非健身专业人士参加认证培训，在通过评估测试之后，可以成为Animal Flow认证专家。但在未取得适当的健身专业人士证书之前，不得教授Animal Flow课程。您可以在 這裡 找到有关认证要求、步骤以及益处的详细信息。這裡. \n关于课程\n你将学习到Animal Flow的全部六大要素，包括行进形态（动物运动的“ABC”）、转换与衔接、手腕活动、激活、特定形态拉伸、当然，还有流动。 \n此认证培训从基础形态的教学开始，在两天的时间里系统地建立难度与复杂性。运动的教学是以科学基础为背景，这些概念与健康和健身行业的专业人士息息相关。在第二天的结尾，全班将一起演练一套动作序列，被称为Beast Flow，它集成了认证培训中的大部分动作。参与者可以借鉴这个结构，从中开始自己的创作实践。 \n请在此查阅有关  一级认证培训\,的更多详细信息。包括认证培训中涉及的特定动作、课程目标以及评估测试步骤。 \n内容包括\n你的注册包括： \n\n访问全部一级动作教学的视频库\n100页学生手册\n访问AF教练Facebook私人群组\n访问Mike Fitch的系列教程，回顾AF中使用的Call Out语言（口令）\n认证证书，包括参与继续教育学分的证明\n\n认证培训的准备\n此认证培训对所有技能水平人士开放。你需要能够在四足姿势支撑自己的体重，以及符合参与体育活动的体检要求。参加者必须年满18周岁。\n注册后，你将收到一个欢迎视频、一级教程以及其他认证培训之前的信息。 \n继续教育学分\n级课程获批准提供以下机构的继续教育学分： \nAmerican Council on Exercise (ACE) 1.1 分;\nNational Academy of Sports Medicine (NASM) 1.1分;\nAthletics and Fitness Association of America (AFAA) 11 分;\nInternational Sports Sciences Association (ISSA) 13 分;\nUAE REPs 13 分. \n教练与地点\n此认证培训将由Animal Flow教练培训官Chao “K” Zang. 授课。 \n本次认证培训将在福州现场进行。 \n费用与付款方式\n级认证培训费用为￥5680人民币 \nREGISTER HERE.\nEMAIL Animal Flow China for more information. \n取消与退款\n如果你需要取消你的认证培训或其他活动的注册，取决于距离培训日期的远近，根据以下条款，你有可能获得部分退款。请注意，我们根据几个月前的注册数量来安排教练培训官的时间和差旅。所以，如果你必须取消，我们不能提供全额退款。\n如果由于冲突、紧急情况(包括但不限于感染COVID)或其他原因必须取消，你可以选择将你的注册转移到未来的线上或现场的活动。\n如果你要求现金退款，退款的金额取决于距离培训日期的远近。对于已经“全额支付”的注册（提前注册或定期注册），退款将扣除$15美元的手续费，按照以下时间表：距离培训60天或以上：100%；45 – 59天75%；30 – 44天：50%；15 – 29天:25%；培训前两周或更短的时间：$0美元。现金退款要求必须在申请取消后的两周内提出。否则，你的注册将被转移至未来的认证培训。\n注册保证金在距离认证培训90天以内不予退还。\n你可以将你的注册资格转让给其他人，但你有责任核实此人身份，并与他直接进行所有财务交接。\n如果培训因任何原因被GBT取消，GBT将提供全额退款（不收取任何手续费）。\n这个退款政策没有例外。
URL:https://animalflow.com/event/l1_fuzhou_0524/
LOCATION:Fuzhou TBA\, Fuzhou\, Fujian\, China
CATEGORIES:All Workshops,Asia,China,Level 1 Instructor Certification,MI K Zang,Southeast Asia
ATTACH;FMTTYPE=image/jpeg:https://animalflow.com/wp-content/uploads/2023/11/L1-Fuzhou-may-2024-web.jpg
ORGANIZER;CN="Animal Flow China":MAILTO:afchina@animalflow.com.cn
END:VEVENT
END:VCALENDAR