BEGIN:VCALENDAR
VERSION:2.0
PRODID:-//Animal Flow - ECPv6.15.12.2//NONSGML v1.0//EN
CALSCALE:GREGORIAN
METHOD:PUBLISH
X-WR-CALNAME:Animal Flow
X-ORIGINAL-URL:https://animalflow.com
X-WR-CALDESC:Events for Animal Flow
REFRESH-INTERVAL;VALUE=DURATION:PT1H
X-Robots-Tag:noindex
X-PUBLISHED-TTL:PT1H
BEGIN:VTIMEZONE
TZID:Asia/Taipei
BEGIN:STANDARD
TZOFFSETFROM:+0800
TZOFFSETTO:+0800
TZNAME:CST
DTSTART:20250101T000000
END:STANDARD
END:VTIMEZONE
BEGIN:VEVENT
DTSTART;TZID=Asia/Taipei:20260425T000000
DTEND;TZID=Asia/Taipei:20260426T235959
DTSTAMP:20260422T112207
CREATED:20251216T072330Z
LAST-MODIFIED:20251216T072332Z
UID:10000986-1777075200-1777247999@animalflow.com
SUMMARY:Animal Flow Level 3 Taipei / Taoyuan City 臺北 /桃園市 (Apr 2026)
DESCRIPTION:尋找類似活動 :\n\n\n\nFind Similar Events: :\n\n\n\n\n\n\n\n\n\n\n\n\n\n課程日期\n\n\n\nWHEN\n\n\n\n2026年 4 月 25 日至 26 日 \n\n\n\nApril 25-26\, 2026 \n\n\n\n星期六及日  Saturday and Sunday \n\n\n\n上午 9:30 點至下午 6:309:30am to 6:30pm \n\n\n\n\n\n\n\n\n\n\n\n\n\n\n\n教練\n\n\n\nMASTER INSTRUCTOR\n\n\nRICHARD SCRIVENER\n\n\nfrom \n\n\nLondon\, UK \n\n\n授課語言 : 英語 (僅提供有限的協助與中文翻譯) \n\n\n\nLanguage for this workshop:  English (limited assistance with Mandarin translation provided)  \n\n\n\n學生手冊：繁體中文版或英文版 \n\n\n\nLanguage for student manual:  Traditional Chinese or English \n\n\n\n\n\n\n\n\n\n\n\n\n\n費用\n\n\n\nCOST\n\n\n\n課程原價 \n\n\n\nREGULAR PRICE \n\n\n\n$ 24\,800TWD \n\n\n\n早鳥價 \n\n\n\nEARLY BIRD PRICE \n\n\n\n$ 23\,200 TWD \n\n\n\n單人複訓 \n\n\n\nRESIT \n\n\n\n$12\,400 TWD \n\n\n\ncontact us for options to pay in USD \n\n\n\n\n\n\n\n\nE場地位置 EVENT LOCATION\n\n\n\n\n\n\n\n\n\n\n\n\n\n\n\nLevel 3 is designed to elevate your personal flow practice\, as well as your understanding of the science\, teaching strategies\, and coaching skills that define exceptional L3 Instructors.Throughout the workshop\, you’ll dive into advanced topics that enhance your Quadrupedal Movement Training (QMT)\, including breath and mobility integration\, anatomy and biomechanics\, and refined coaching techniques. You’ll also learn dynamic new Level 3 movements\, begin progressive float training\, and continue developing your free flow and unique movement style. \n\n\n\nLevel 3 的課程旨在全面提升你的個人 Flow 練習，同時深化你對科學原理、教學策略以及那些造就優秀 L3 指導員的教練技巧的理解。在整個工作坊中，你將深入探討能強化四足移動訓練（QMT）的進階主題，包括呼吸與動作的整合、解剖學與生物力學，以及更精煉的教學技巧。你也會學習全新的 Level 3 動作、開始進行漸進式的漂浮訓練（float training），並持續發展你的自由流動（free flow）能力與個人獨特的動作風格。 \n\n\n\n\n\n\n\n\n\n\n\n\n\n活動主辦單位\n\n\n\nEVENT ORGANIZER\n\n\n\n\n\n如需詳細資訊，請聯絡活動經理 :  \n\n\n\n\n\n\n\n\n\n\nAbout the Course  關於本課程 \n\n\n\n\n\n\n\n\n\n\n\nLevel 3 is the highest and final level of achievement in the Animal Flow system. \n\n\n\nLevel 1 introduces the concepts of Quadrupedal Movement Training (QMT) and the foundational AF movements. \n\n\n\n Level 2 brings in more creativity and advanced movements along with stronger emphasis on coaching techniques. \n\n\n\nLevel 3 is where it all culminates in an integrated understanding of QMT\, personal practice and great coaching skills.  \n\n\n\nOver two full days with 16 hours of instruction\, you’ll have opportunity to expand your personal flow skills and to work in groups. With instruction including lectures\, demonstrations\, and lots of interactive movement\, you’ll receive a thorough education on multiple aspects of AF and QMT. \n\n\n\nLevel 3 是 Animal Flow 系統中最高且最終的進階等級。 \n\n\n\nLevel 1 主要介紹四足動作訓練（QMT）的核心概念與 Animal Flow 的基礎動作。 \n\n\n\nLevel 2 則加入更多創意與進階動作，同時更強調教學技巧的深出淺入。 \n\n\n\n到了 Level 3，一切將匯聚為對 QMT、個人練習，以及高階教練能力的整合性理解。 \n\n\n\n在兩天共 16 小時的課程中，你將有機會拓展自己的 Flow 能力，也會進行小組協作。課程形式涵蓋講解、示範以及大量的互動式練習，讓你能在多個面向獲得關於 AF 與 QMT 的完整知識。 \n\n\n\n\n\nThe agenda includes: \n\n\n\n\nDeep dive into the 4 Pillars of Animal Flow\n\n\n\nProgressive Tuck Balance training\n\n\n\nProgressive “Float” (Tuck Planche) training\n\n\n\nTons of new L3 movements\n\n\n\nAnatomy and biomechanics of Animal Flow\n\n\n\nWorking with ground reaction force\n\n\n\nAnimal Flow language and Call Out reviews\n\n\n\nBreath mobility\n\n\n\nCreating style through the exploration of the skeletal system\n\n\n\nFree Flow\n\n\n\nAdvanced Coaching\n\n\n\n\n課程內容包含： \n\n\n\n\n深入探索 Animal Flow 的四大支柱\n\n\n\n漸進式團身倒立（Tuck Balance）訓練\n\n\n\n漸進式「Float」（團身水平支撐 / Tuck Planche）訓練\n\n\n\n大量全新的 Level 3 動作\n\n\n\nAnimal Flow 的解剖學與生物力學\n\n\n\n運用地面反作用力（Ground Reaction Force）\n\n\n\nAnimal Flow 的語言系統與 Call Out 複習\n\n\n\n呼吸與動作的流動整合\n\n\n\n透過骨骼系統探索個人流動風格\n\n\n\n自由流動（Free Flow）訓練\n\n\n\n 進階教學技巧（Advanced Coaching）\n\n\n\n\n\n\n\n\n\n\nWhat’s Included 課程包含內容 \n\n\n\n\n\nYour registration includes everything you need to prepare for the workshop and complete the process to become certified in L2. Your registration covers: \n\n\n\n\nAccess to the full library of instructional videos for the Level 3 movements\, to download or stream online\n\n\n\nDigital copy of the L3 Student Manual\n\n\n\nAccess to the Level 3 Training Group within the Animal Flow Circle community.\n\n\n\nCertificate of Completion\, including proof of participation for Continuing Education credits. CEUs are provided by NASM (15 hours) and ACE (14 hours).\n\n\n\nOption to complete the certification process to become a Certified L3 Instructor or L3 Official Flowist\, the highest levels within the AF system.\n\n\n\nListing in the online Instructor Directory indicating your elite status as an L3 Instructor\n\n\n\n\n你的報名費已涵蓋所有培訓準備及完成 L3 認證所需的資源。內容包含： \n\n\n\n\nLevel 3 全部動作的教學影片庫存取權限，可下載或線上串流觀看\n\n\n\nL3 學生手冊（電子版）\n\n\n\n加入 Animal Flow Circle 社群中的 Level 3 訓練群組\n\n\n\n結業證書，包含可用於繼續教育學分（CEU）的參與證明\n\n\n\n\n　— NASM：15 小時 \n\n\n\n　— ACE：14 小時 \n\n\n\n\n選擇進行認證流程，成為官方認可的 L3 Certified Instructor 或 L3 Official Flowist──AF 系統中最高級別\n\n\n\n列名於官方線上指導員名錄，顯示你身為 L3 指導員的卓越資格\n\n\n\n\n\n\n\n\nWorkshop Prerequisites  培訓參加資格 \n\n\n\n\n\nLevel 3 is open to anyone who has taken the Level 2 workshop and is comfortable with the L1 and L2 movements. While we recommend that you be progressing in your Tuck Balance practice and be comfortable being upside down\, the L3 workshop doesn’t require you to have fully mastered your Tuck. You will be able to fully participate without it. Additional basic requirements include:  \n\n\n\n\nAttendees must be at least 18 years old.\n\n\n\nAs with L1/L2\, you should be physically fit enough to support your own bodyweight in quadrupedal positions (all fours) and be medically cleared to participate in physical activities. \n\n\n\n\nLevel 3 培訓開放給所有已完成 Level 2 並對 L1 與 L2 動作已經熟悉的學員。 \n\n\n\n我們建議你在團身倒立（Tuck Balance）方面已有一定進展，並且對倒立類型的姿勢感到自在；然而，L3 工作坊並 不要求 你必須已完全掌握 Tuck。即使尚未達到完整動作，你仍能全程參與課程。 \n\n\n\n其他基本要求包含： \n\n\n\n\n參加者須年滿 18 歲。\n\n\n\n與 L1/L2 相同，你應具備足夠的體能，可在四足（all fours）姿勢中支撐自身體重，並已獲得醫療許可可以參與身體活動。\n\n\n\n\n\n\n\n\n\n\n\n\nCertification Options 認證選項 \n\n\n\n\n\nYou can test out to become a Certified L3 AF Instructor or Flowist. \n\n\n\n你可以選擇參加考試，成為 Certified L3 AF Instructor 或 Official L3 Flowist。 \n\n\n\n\nCERTIFIED L3 ANIMAL FLOW INSTRUCTORS \n\n\n\nFitness and yoga professionals who are already certified in L1 and L2 can complete the test to become certified in L3. The test out process includes multiple components which are fully explained in the workshop.  \n\n\n\n\n\nCertified L3 Animal Flow Instructors（L3 認證指導員） \n\n\n\n已取得 L1 與 L2 認證的健身或瑜伽專業人士，可進行測驗以取得 L3 認證。 \n\n\n\n測驗流程包含多個部分，並會在培訓中完整說明。 \n\n\n\n\n\nOFFICIAL L3 FLOWIST \n\n\n\nNon-professionals can attain the title of Official L3 Flowist. You must complete L1 and L2 first. The test is the same as for Instructors. \n\n\n\n\n\nOfficial L3 Flowist（L3 官方流動者） \n\n\n\n非專業人士也能取得 Official L3 Flowist 的頭銜，前提是必須已完成 L1 與 L2。 \n\n\n\n測驗內容與指導員的考試相同。 \n\n\n\n\n\n\n\n\nContinuing Education Credits 持續教育學分  \n\n\n\n\n\nThe Level 3 course is approved to provide Continuing Education Credits from some of the top accreditation entities in the field of physical fitness: \n\n\n\nLevel 3 課程已獲多個頂尖體適能專業認證機構核准，可提供繼續教育學分（Continuing Education Credits\, CEC/CEU）： \n\n\n\n\n\n\n\nNational Academy of Sports Medicine (NASM): 1.5 CEUS\n\n\n\n\n\n\n\nAthletics and Fitness Association of America (AFAA): 15 CEUs\n\n\n\n\n\n\n\nAmerican Council on Exercise (ACE): 14 CEUs\n\n\n\n\n\n\n\n\n\n\n\nCancellations and REFUNDs POLICY 取消和退款政策 \n\n\n\n\n\nRefunds are provided according to the following schedule:  \n\n\n\n\n90% refund for applicants who apply 45 days before the course.\n\n\n\n50% refund for applicants who apply 20 days before the course.\n\n\n\n20% refund for applicants who apply 10 days before the course.\n\n\n\nNo refund for applicants within 10 days of the course.\n\n\n\n\nIf you are unable to attend\, you can request a credit for a future workshop.  \n\n\n\n\n課前45天申請者退費 90%\n\n\n\n課前20天申請者退費 50%\n\n\n\n課前10天申請者退費 20%\n\n\n\n課前10天內申請者不退費\n\n\n\n\n因個人因素不克參加研習者自行申請退費 \n\n\n\n申請退費者請本人提供存摺封面以方便退費 !課程可以全程轉移給他人使用不需要另貼補費用請於一週前提供相關資訊以方便準備相關資料
URL:https://animalflow.com/event/l3_taipei_0426/
LOCATION:Dancing Sunshine at Yangmei Sports Park 舞動陽光 楊梅體育園區\, 3F\, No 7\, Yucheng Rd 裕成路7號3樓\, Taoyuan City 桃園市\, Yangmei District 楊梅區\, 326022\, Taiwan
CATEGORIES:All Workshops,Asia,Level 3,MI Rich,Taiwan
ATTACH;FMTTYPE=image/png:https://animalflow.com/wp-content/uploads/2024/02/L3-banner-RU.png
GEO:24.9076877;121.1664506
X-APPLE-STRUCTURED-LOCATION;VALUE=URI;X-ADDRESS=Dancing Sunshine at Yangmei Sports Park 舞動陽光 楊梅體育園區 3F No 7 Yucheng Rd 裕成路7號3樓 Taoyuan City 桃園市 Yangmei District 楊梅區 326022 Taiwan;X-APPLE-RADIUS=500;X-TITLE=3F\, No 7\, Yucheng Rd 裕成路7號3樓:geo:121.1664506,24.9076877
END:VEVENT
END:VCALENDAR