BEGIN:VCALENDAR
VERSION:2.0
PRODID:-//Animal Flow - ECPv6.15.12.2//NONSGML v1.0//EN
CALSCALE:GREGORIAN
METHOD:PUBLISH
X-ORIGINAL-URL:https://animalflow.com
X-WR-CALDESC:Events for Animal Flow
REFRESH-INTERVAL;VALUE=DURATION:PT1H
X-Robots-Tag:noindex
X-PUBLISHED-TTL:PT1H
BEGIN:VTIMEZONE
TZID:America/New_York
BEGIN:DAYLIGHT
TZOFFSETFROM:-0500
TZOFFSETTO:-0400
TZNAME:EDT
DTSTART:20230312T070000
END:DAYLIGHT
BEGIN:STANDARD
TZOFFSETFROM:-0400
TZOFFSETTO:-0500
TZNAME:EST
DTSTART:20231105T060000
END:STANDARD
BEGIN:DAYLIGHT
TZOFFSETFROM:-0500
TZOFFSETTO:-0400
TZNAME:EDT
DTSTART:20240310T070000
END:DAYLIGHT
BEGIN:STANDARD
TZOFFSETFROM:-0400
TZOFFSETTO:-0500
TZNAME:EST
DTSTART:20241103T060000
END:STANDARD
BEGIN:DAYLIGHT
TZOFFSETFROM:-0500
TZOFFSETTO:-0400
TZNAME:EDT
DTSTART:20250309T070000
END:DAYLIGHT
BEGIN:STANDARD
TZOFFSETFROM:-0400
TZOFFSETTO:-0500
TZNAME:EST
DTSTART:20251102T060000
END:STANDARD
END:VTIMEZONE
BEGIN:VEVENT
DTSTART;VALUE=DATE:20240601
DTEND;VALUE=DATE:20240603
DTSTAMP:20260423T104608
CREATED:20240126T184647Z
LAST-MODIFIED:20240516T192421Z
UID:10000613-1717200000-1717372799@animalflow.com
SUMMARY:Animal Flow Level 2 NYC (Jun)
DESCRIPTION:Take your Animal Flow practice to a higher level of understanding at the Level 2 from June 1-2\, 2024. The two-day event is from 10:00am to 6:00pm on Saturday and 2:00pm to 9:00pm on Sunday. It will be hosted at Adelante Studios and Movement in NYC. This workshop will be taught in English\, by Animal Flow Program Creator Mike Fitch. The Level 2 workshop is open to anyone who has taken Level 1. \nABOUT LEVEL 2\nBuilding upon the strong foundations learned in Level 1\, Level 2 teaches 10 more new moves\, as well as progressions for hand balancing. You’ll delve into more advanced concepts like energy transfers\, tempo changes and using animal locomotion in flows\, while engaging in intermediate level flow design. Read more about the LEVEL 2 WORKSHOP HERE. \nParticipants will learn how to successfully perform the Level 2 exercises\, as well as how to correctly integrate the movements with Level 1 to create extended Flows with an increased degree of complexity and intensity. Participants also learn how to instruct the movements and incorporate them into a training program. Emphasis is placed on understanding how the Level 2 movements train the fascial slings of the body; understanding the role of dissipating force\, fluidity\, and leverage in the advanced movements; and understanding how to instruct a range of progressive drills and conditioning exercises that form the introduction to hand balancing practice. \nThe full-day agenda includes: \n\nReview of key Level 1 moves\nIntro to Hand Balancing: Tuck Balance Progressions\nNew Transitions: Reaching Underswitch; Reaching Underswitch to Deep Ape; Scorpion Sweeps; Roll Throughs; and Crocodile Rolls\, Pop Switches and Pop Outs;\nNew Traveling forms: Bear\, Leopard\, Crocodile;\nUsing traveling forms as a “link” for switches and transitions;\nHow and why to introduce tempo change and energy redirects into a flow;\nIntermediate flow design\n\nLevel 2 Continuing Education\nParticipants are eligible to receive Continuing Education credits from National Academy of Sports Medicine (NASM) – .9 CE; American Fitness Association of America (AFAA) – 9 CEUs; American Council on Exercise (ACE) – 1 CEC. \nELIGIBILITY\nTo enroll in Level 2\, you must have already taken the Level 1 workshop at least 30 days prior to the date of the L2 workshop. While we strongly recommend that you complete your Level 1 certification prior to the workshop\, you may still enroll even if you have not fully completed the test process to become a Certified Instructor. Contact us if you still need to submit your videos but want to enroll in L2. We will make arrangements with you to ensure you can complete the Level 1 test out after the Level 2 workshop. \nNote that while we do not require that you have completed certification\, you MUST be up-to-date with your L1 practice and be very familiar with the moves. L2 is a long\, frustrating day if you haven’t internalized the L1 moves. \nINSTRUCTOR\nThis workshop will be taught by Animal Flow Program Creator Mike Fitch.  Mike will teach in English. \nThe event will be hosted at the beautiful Adelante Studios in NYC.  From 10:0am to 6:00pm on Saturday and 2:00pm to 9:00pm on Sunday. \nCost and Payment Plan Options:\n\nRegular cost for the Level 1 Workshop is $695 USD. Early bird pricing $645 available until April 6th. ALL PRICES ARE IN USD. If you are paying in a foreign currency\, the conversion is done automatically at checkout.\nPayment plans available: You can register with a 50% deposit. Payment plan option available until May 11th. All balances are due 2 weeks prior to the workshop\, by May 18th. Note that we do not collect credit card information and thus cannot automatically rebill you; you will need to click on the balance payment email to make the second payment.\n\nCERTIFICATION\nTo become a Level 2 Certified Instructor\, you will need to submit your Level 2 certification test on video 30 – 90 days after the workshop. Read about CERTIFICATIONS HERE. \nCancellations and Refunds\nIf you need to cancel your workshop or other event registration\, you may be eligible for a partial refund\, depending upon length of time to the event\, according to the following terms. Note that we schedule travel and instructor time based on the number of registrations several months in advance\, so we cannot offer full refunds if you must cancel. \nIf you must cancel due to a conflict\, emergency (including but not limited to having COVID)\, or other reason\, you have the option of transferring your registration to a future online or in-person event.\nIf you are requesting a cash refund\, the amount of refund is dependent on the length of time until the event. For registrations that have “paid in full” (early registration or regular registration)\, refunds are made minus a $15 processing fee\, according to the following schedule: 60 days or more until event: 100%; 45-60 days 75%; 30-45 days: 50%; 15-29 days: 25%; two weeks or less until event: $0. Requests for cash refunds must be made within two weeks of your cancellation.\nOtherwise\, you will be provided with a transfer credit for a future workshop (credit expires within 1 year). There is a $75 transfer fee. Anyone who cancels within 1 week of the workshop\, under any circumstance\, will automatically fall under this transfer category. No exceptions.\nFor registration deposits\, no refunds are provided within 90 days of the event.\nIt is allowable for you to transfer your registration to somebody else\, although it is your responsibility to identify the individual and make any financial arrangements directly with them.\nIf an event is cancelled by GBT for any reason\, a full refund (with no processing fee) shall be provided.\nThere are NO EXCEPTIONS to this refund policy.
URL:https://animalflow.com/event/l2_nyc_0624/
LOCATION:Adelante Studios\, 25 W 31st St 2 Floor\, New York\, NY\, 10001\, United States
CATEGORIES:All Workshops,Level 1 Instructor Certification,Level 2,MI Mike Fitch,North & South America,United States
ATTACH;FMTTYPE=image/png:https://animalflow.com/wp-content/uploads/2024/01/Photo-Dec-13-2023-5-34-56-PM.png
ORGANIZER;CN="Global Bodyweight Training (AF HQ)":MAILTO:certifications@animalflow.com
GEO:40.7473324;-73.9872803
X-APPLE-STRUCTURED-LOCATION;VALUE=URI;X-ADDRESS=Adelante Studios 25 W 31st St 2 Floor New York NY 10001 United States;X-APPLE-RADIUS=500;X-TITLE=25 W 31st St 2 Floor:geo:-73.9872803,40.7473324
END:VEVENT
END:VCALENDAR