BEGIN:VCALENDAR
VERSION:2.0
PRODID:-//Animal Flow - ECPv6.15.12.2//NONSGML v1.0//EN
CALSCALE:GREGORIAN
METHOD:PUBLISH
X-ORIGINAL-URL:https://animalflow.com
X-WR-CALDESC:Events for Animal Flow
REFRESH-INTERVAL;VALUE=DURATION:PT1H
X-Robots-Tag:noindex
X-PUBLISHED-TTL:PT1H
BEGIN:VTIMEZONE
TZID:Australia/Brisbane
BEGIN:STANDARD
TZOFFSETFROM:+1000
TZOFFSETTO:+1000
TZNAME:AEST
DTSTART:20250101T000000
END:STANDARD
END:VTIMEZONE
BEGIN:VTIMEZONE
TZID:America/New_York
BEGIN:DAYLIGHT
TZOFFSETFROM:-0500
TZOFFSETTO:-0400
TZNAME:EDT
DTSTART:20250309T070000
END:DAYLIGHT
BEGIN:STANDARD
TZOFFSETFROM:-0400
TZOFFSETTO:-0500
TZNAME:EST
DTSTART:20251102T060000
END:STANDARD
BEGIN:DAYLIGHT
TZOFFSETFROM:-0500
TZOFFSETTO:-0400
TZNAME:EDT
DTSTART:20260308T070000
END:DAYLIGHT
BEGIN:STANDARD
TZOFFSETFROM:-0400
TZOFFSETTO:-0500
TZNAME:EST
DTSTART:20261101T060000
END:STANDARD
BEGIN:DAYLIGHT
TZOFFSETFROM:-0500
TZOFFSETTO:-0400
TZNAME:EDT
DTSTART:20270314T070000
END:DAYLIGHT
BEGIN:STANDARD
TZOFFSETFROM:-0400
TZOFFSETTO:-0500
TZNAME:EST
DTSTART:20271107T060000
END:STANDARD
END:VTIMEZONE
BEGIN:VEVENT
DTSTART;TZID=Australia/Brisbane:20260510T000000
DTEND;TZID=Australia/Brisbane:20260510T235959
DTSTAMP:20260422T093241
CREATED:20260204T110724Z
LAST-MODIFIED:20260422T085014Z
UID:10001021-1778371200-1778457599@animalflow.com
SUMMARY:Unlocking Movement Roadblocks Mini-Workshop (AU/US Time ZONES)
DESCRIPTION:Find similar events: \n\n\n\n\n\n\n	Event Categories: All Workshops\, Europe\, MPC Chiara Bertozzo\, North & South America\, Online\, Other Workshops\n\n\n\n\n\n\n\n\nWHEN\n\n\n\nThis is virtual event taught in Australia/Asia and North/South America time zones: \n\n\n\nBrisbane Time Zone: Sunday May 10\, 2026 \n\n\n\n8:00am – 10:30am  \n\n\n\nUS Eastern (New York) Time Zone: Saturday May 9\, 2026  \n\n\n\n6:00pm – 8:30pm  \n\n\n\nBe sure to double check your own time zone!  \n\n\n\n\n\n\n\n\n\n\n\n\n\n\n\nMASTER INSTRUCTOR\n\n\nGUILLAUME TUAL\n\n\nfrom \n\n\nGold Coast\, Australia \n\n\nLanguage:  English \n\n\n\n\n\n\n\n\n\n\n\n\n\nCOST\n\n\n\nregular price \n\n\n\n$175 USD \n\n\n\nearly bird price \n\n\n\n$150 USD \n\n\n\nuntil April 10 \n\n\n\n\n\n\n\n\nVirtual EVENT\n\n\n\n\n\nThis is a virtual workshop. It will take place on Zoom. You will receive the Zoom link in your confirmation email.  \n\n\n\n\n\n\n\n\n\nJoin Movement Therapist and Master Instructor “Gee” Tual for this 2.5-hour interactive deep dive into the science of compensation\, mobility\, and neuromechanics. This session is designed to help you uncover the root causes behind your movement limitations and transform the way you approach your practice. \n\n\n\nWhether you’re a new Flowist or a seasoned coach\, this workshop will deepen your understanding of your own movement story. You’ll leave with practical tools and a sharper eye for identifying\, understanding\, and resolving the roadblocks that limit your flow. \n\n\n\n\n\n\n\n\n\n\n\n\n\n\n\n\n\n\n\nABOUT THE WORKSHOP\n\n\n\n\n\n\nUsing foundational Animal Flow positions\, we’ll identify where and why your body restricts movement. You’ll learn how to distinguish between structural limitations\, neuromuscular inhibition\, and habitual compensation patterns.  \n\n\n\nThrough live demonstrations and guided exploration\, you’ll apply strategies drawn from joint mobility training (FRC)\, self-release techniques\, and neuromuscular activation drills to restore freedom and control in your movement. \n\n\n\n\n\n\n\n\n\nThis is not just a follow-along class—it’s a movement laboratory.  \n\n\n\nEach participant will receive: \n\n\n\n\n access to a pre-webinar assessment form to personalize their experience and contribute to the workshop’s agenda;\n\n\n\naccess to the workshop video recording for 90 days after the session;\n\n\n\nexclusive follow-up videos with targeted drills\, provided only to attendees. \n\n\n\n\nThe small group format ensures individual feedback and real-time troubleshooting. \n\n\n\n\n\n\n\n\nWHO CAN ATTEND\n\n\n\n\n\n\n\n\n\n\n\n\nThis event is open to anyone who has taken the Level 1 workshop.  You do not have to have completed the certification process.  \n\n\n\n\n\n\n\n\nCancellations and REFUNDs POLICY\n\n\n\n\nRefunds are available up to 30 days prior to workshop.  \n\n\n\nCancellations with less than 30 days until the workshop are not eligible for refunds. You may transfer your registration to another person.   \n\n\n\n\n\n\n\n\nEVENT ORGANIZER\n\n\n\n\n\nFor more information contact the event organizer:
URL:https://animalflow.com/event/unlocking-movement-roadblocks/
CATEGORIES:All Workshops,Asia,Australia and New Zealand,Central America,Hong Kong,MI Guillaume,North & South America,Online,Other Workshops,South America,Southeast Asia,United States
ATTACH;FMTTYPE=image/png:https://animalflow.com/wp-content/uploads/2026/02/AF_TEST_OUT_REVIEW_WEB_01.png
ORGANIZER;CN="Global Bodyweight Training (AF HQ)":MAILTO:certifications@animalflow.com
LOCATION:https://animalflow.com/event/unlocking-movement-roadblocks/
END:VEVENT
BEGIN:VEVENT
DTSTART;TZID=America/New_York:20260628T100000
DTEND;TZID=America/New_York:20260628T140000
DTSTAMP:20260422T093241
CREATED:20260422T053845Z
LAST-MODIFIED:20260422T084109Z
UID:10001050-1782640800-1782655200@animalflow.com
SUMMARY:Movement for Every Body: Deconstructing Animal Flow
DESCRIPTION:Find similar events: \n\n\n\n\n\n\n	Event Categories: All Workshops\, Europe\, MPC Chiara Bertozzo\, North & South America\, Online\, Other Workshops\n\n\n\n\n\n\n\n\nWHEN\n\n\n\nThis is a virtual event taught in Europe/Americas/South Asia time zone: \n\n\n\nSunday June 28\, 2026 \n\n\n\nMilan Time Zone:  \n\n\n\n16:00 – 20:00 \n\n\n\nNew York Time Zone:  \n\n\n\n10:00am – 2:00pm \n\n\n\nMumbai Time Zone:  \n\n\n\n7:30pm  – 11:30pm \n\n\n\nBe sure to double check your own time zone!  \n\n\n\n\n\n\n\n\n\n\n\n\n\n\n\n\n\nINSTRUCTOR\n\n\n\nCHIARA BERTOZZO\n\n\n\nMaster Performance Coach\n\n\n\n(view Chiara’s profile) \n\n\n\nThis workshop will be taught in ENGLISH   \n\n\n\n\n\n\n\n\n\n\n\n\n\nCOST\n\n\n\nregular price \n\n\n\n$175 USD \n\n\n\nearly bird price \n\n\n\n$150 USD \n\n\n\nuntil May 30 \n\n\n\n\n\n\n\n\n\nVirtual EVENT\n\n\n\n\n\nThis is a virtual workshop. It will take place on Zoom. You will receive the Zoom link in your confirmation email.   \n\n\n\n\n\n\n\n\n\n\nMost Animal Flow Instructors will encounter clients who need modifications due to mobility limitations\, reduced strength\, injury recovery\, and a host of other reasons. Having a tool box of smart “deconstruction” strategies is essential for ensuring all of your clients feel successful!    \n\n\n\n“Deconstructing” Animal Flow is the process of breaking down the movements into easier components to make them more achievable for individuals not ready or able to perform the standard movement. This 4-hour virtual workshop will teach Animal Flow Instructors how to deconstruct movements step by step\, covering key principles and specific methods. Hands-on practice will provide variations for six AF movements along with two deconstructed flows.     \n\n\n\n\n\n\n\n\n\n\n\n\n\n\n\n\n\n\n\nABOUT THE WORKSHOP\n\n\n\n\n\n\nDeconstructed Animal Flow movements are not a step back –  they are the key to deeper mastery and  the foundation of the entire system. \n\n\n\nBecause every body is different\, you’ll have clients with different needs.  \n\n\n\nYou’ll learn how to make Animal Flow: \n\n\n\nMore accessibleMore intelligentMore effective \n\n\n\n\n\nThis 4-hour virtual workshop is taught live with tons of opportunity for interaction and feedback.  \n\n\n\nThe agenda will include: \n\n\n\n\nhow to deconstruct Animal Flow movements step-by-step\n\n\n\n4 key principles to deconstruct any movement \n\n\n\nsmart strategies for progression and regression\n\n\n\nhands-on practice with multiple variations of 6 AF moves\n\n\n\n2 deconstructed flows at different levels\n\n\n\n\nYou’ll also receive a bonus:   \n\n\n\n\n90-day access to the full workshop video\n\n\n\n\n\n\n\n\n\n\n\n\n\nWHO CAN ATTEND\n\n\n\n\n\n\n\n\n\n\n\n\nThis mini-workshop is open to anyone who has taken the Level 1 workshop. You do not have to have completed the certification process. \n\n\n\nIt is ideal for: \n\n\n\n\nAF Instructors who want to add deconstructed movements to their tool box\n\n\n\nFlowists who want to deepen their practice (after taking the L1 workshop)\n\n\n\n\n\n\n\n\n\nCancellations and REFUNDs POLICY\n\n\n\n\nRefunds are available up to 30 days prior to workshop.  \n\n\n\nCancellations with less than 30 days until the workshop are not eligible for refunds. You may transfer your registration to another person.   \n\n\n\n\n\n\n\n\nEVENT ORGANIZER\n\n\n\n\n\nFor more information contact the event organizer:
URL:https://animalflow.com/event/deconstructedminiworkshop_0626/
CATEGORIES:All Workshops,Europe,MPC Chiara Bertozzo,North & South America,Online,Other Workshops
ATTACH;FMTTYPE=image/png:https://animalflow.com/wp-content/uploads/2026/04/MINI-WORKSHOP-Chiara-2026.png
LOCATION:https://animalflow.zoom.us/j/82001235014
END:VEVENT
END:VCALENDAR