BEGIN:VCALENDAR
VERSION:2.0
PRODID:-//Animal Flow - ECPv6.15.12.2//NONSGML v1.0//EN
CALSCALE:GREGORIAN
METHOD:PUBLISH
X-WR-CALNAME:Animal Flow
X-ORIGINAL-URL:https://animalflow.com
X-WR-CALDESC:Events for Animal Flow
REFRESH-INTERVAL;VALUE=DURATION:PT1H
X-Robots-Tag:noindex
X-PUBLISHED-TTL:PT1H
BEGIN:VTIMEZONE
TZID:America/New_York
BEGIN:DAYLIGHT
TZOFFSETFROM:-0500
TZOFFSETTO:-0400
TZNAME:EDT
DTSTART:20250309T070000
END:DAYLIGHT
BEGIN:STANDARD
TZOFFSETFROM:-0400
TZOFFSETTO:-0500
TZNAME:EST
DTSTART:20251102T060000
END:STANDARD
BEGIN:DAYLIGHT
TZOFFSETFROM:-0500
TZOFFSETTO:-0400
TZNAME:EDT
DTSTART:20260308T070000
END:DAYLIGHT
BEGIN:STANDARD
TZOFFSETFROM:-0400
TZOFFSETTO:-0500
TZNAME:EST
DTSTART:20261101T060000
END:STANDARD
BEGIN:DAYLIGHT
TZOFFSETFROM:-0500
TZOFFSETTO:-0400
TZNAME:EDT
DTSTART:20270314T070000
END:DAYLIGHT
BEGIN:STANDARD
TZOFFSETFROM:-0400
TZOFFSETTO:-0500
TZNAME:EST
DTSTART:20271107T060000
END:STANDARD
END:VTIMEZONE
BEGIN:VEVENT
DTSTART;TZID=America/New_York:20260926T000000
DTEND;TZID=America/New_York:20260927T235959
DTSTAMP:20260422T080849
CREATED:20260307T215512Z
LAST-MODIFIED:20260402T191753Z
UID:10001042-1790380800-1790553599@animalflow.com
SUMMARY:Animal Flow Level 2 Virtual (Sep 2026)
DESCRIPTION:Find similar events: \n\n\n\n\n\n\n	Event Categories: All Workshops\, Canada\, Europe\, Level 2\, MI Rosh\, North & South America\, Online\, Online L2\, United Kingdom\, United States\n\n\n\n\n\n\n\n\nWHEN\n\n\n\nSeptember 26-27\, 2026 \n\n\n\n\n\n\n\n\n\n\n\n\n\n\n\n\n\nMASTER INSTRUCTOR\n\n\nROSHAN CHOPRA\n\n\nfrom \n\n\nToronto\, Canada \n\n\nLanguage for this workshop:  English \n\n\n\n\n\n\n\n\n\n\n\n\n\nCOST\n\n\n\nREGULAR PRICE \n\n\n\n$795 USD \n\n\n\nEARLY BIRD PRICE \n\n\n\n$745 until July 25\, 2026 \n\n\n\nPAYMENT PLAN \n\n\n\nOption to pay in 2 installments if you register at least 3 weeks prior to event \n\n\n\n\n\n\n\n\nVIRTUAL EVENT\n\n\n\n\n\nThis workshop will take place on zoom. The L2 curriculum is the same whether taken in person or online. It is taught live with no pre-recorded material. You should be prepared to participate the entire time with your camera on.   \n\n\n\nMake sure you have enough space to perform AF movements. You’ll also want to have access to a wall you can use for the Tuck Balance section.  \n\n\n\nYou’ll received the link and password via email. You can also find the zoom login here during the event. \n\n\n\n\n\n\n\nLevel 2 takes your Animal Flow practice to a higher level. Building upon the strong foundations learned in Level 1\, the workshop teaches 10 more new moves\, as well as progressions for the Tuck Balance. You’ll delve into more advanced concepts like energy transfers\, tempo changes and using animal locomotion in Flows\, while engaging in intermediate level flow design. \n\n\n\n\n\n\n\n\n\n\n\n\n\n\n\n\n\n\n\n\n\n\n\n\nEarly Bird price:\n\n\n\n$745 USD\n\n\n\nuntil JULY 25\, 2026\n\n\n\n\n\nEnter bird price automatic at checkout. You must register prior to the deadline to use the discount. \n\n\n\nIf registering with the payment plan option\, the entire discount is applied to the first payment at registration.  \n\n\n\n\n\n\n\n\nAbout the Course\n\n\n\n\n\n\n\n\n\n\nWhile Level 1 is focused on providing an introduction to Quadrupedal Movement Training and learning the foundational AF movements\, Level 2 emphasizes exploring more complex movements and bringing in more creativity.   \n\n\n\nParticipants will learn how to successfully perform the ten new L2 movements\, as well as how to correctly integrate the movements with L1 to create extended Flows with an increased degree of complexity and intensity. Participants also learn how to instruct the movements and incorporate them into a training program. Special attention is paid to  understanding how the L2 movements train the fascial slings of the body; understanding the role of dissipating force\, fluidity\, and leverage in the advanced movements; and understanding how to instruct a range of progressive drills and conditioning exercises that form the introduction to hand balancing practice.  \n\n\n\n\n\nThe full two-day agenda includes 16 hours of instruction: \n\n\n\n\nIntermediate flow design\n\n\n\nReview of key Level 1 movements\n\n\n\nIntro to Hand Balancing: Tuck Balance Progressions\n\n\n\nNew Transitions: Reaching Underswitch; Reaching Underswitch to Deep Ape; Scorpion Sweeps; Roll Throughs; and Crocodile Rolls\, Pop Switches and Pop Outs;\n\n\n\nNew Traveling forms: Bear\, Leopard\, Crocodile;\n\n\n\nUsing traveling forms as a “link” for switches and transitions;\n\n\n\nHow and why to introduce tempo change and energy redirects into a flow;\n\n\n\n\n\n\n\n\n\nWhat’s Included\n\n\n\n\n\n\n\n\n\n\n\n\nYour registration includes everything you need to prepare for the workshop and complete the process to become certified in L2. Your registration covers: \n\n\n\n\nAccess to the full library of instructional videos for all Level 2 movements\, to download or stream online\n\n\n\nDigital copy of the L2 Student Manual\n\n\n\nAccess to the Level 2 Instructor Resource section of the Animal Flow website\, where you’ll find the tutorials\, manuals\, test information\, and  other resources\n\n\n\nAccess to the Tuck Balance Training Guide video\n\n\n\nCertificate of Completion\, including proof of participation for Continuing Education credits\n\n\n\nOption to complete the certification process to become a Certified L2 Instructor or L2 Official Flowist\n\n\n\n\n\n\n\n\n\nWorkshop Prerequisites\n\n\n\n\nAnyone who has taken the Level 1 workshop can enroll in L2. \n\n\n\n\nAttendees must be at least 18 years old.\n\n\n\nYou much have taken L1\, but you do not need to be certified in L1. You should be proficient with all of the L1 movements and call out language.\n\n\n\nAs with L1\, you should be physically fit enough to support your own bodyweight in quadrupedal positions (all fours) and be medically cleared to participate in physical activities. \n\n\n\n\n\n\n\n\n\n\n\nCertification Options\n\n\n\n\nYou can test out to become a Certified L2 AF Instructor or Flowist. \n\n\n\n\nCERTIFIED L2 ANIMAL FLOW INSTRUCTORS \n\n\n\nFitness and yoga professionals who are already certified in L1 can complete the test to become certified in L2.  \n\n\n\nThe test includes 3 parts:   \n\n\n\n\nCreate and perform a 3-minute Flow that meets the specified criteria;  \n\n\n\nTeach 3 of the new movements to a client who already knows L1; \n\n\n\nDemonstrate ability to hold a Tuck Balance \n\n\n\n\nTests are due within 90 days of the workshop. You can request an extension for the Tuck Balance component if needed.  \n\n\n\n\n\nOFFICIAL L2 FLOWIST \n\n\n\nNon-professionals can attain the title of Official L2 Flowist. You must complete L1 first. The test is the same as for Instructors. \n\n\n\n\n\n\n\nContinuing Education Credits\n\n\n\n\nThe Level 2 course is approved to provide Continuing Education Credits from some of the top accreditation entities in the field of physical fitness: \n\n\n\n\n\n\n\nNational Academy of Sports Medicine (NASM): 1.5 CEUS\n\n\n\n\n\n\n\nAthletics and Fitness Association of America (AFAA): 1.5 CEUs\n\n\n\n\n\n\n\nAmerican Council on Exercise (ACE): 15 CEUs\n\n\n\n\n\n\n\ncanfitpro Canadian Fitness Professionals: 4 CECs\n\n\n\n\n\n\n\nNew Zealand Registered Exercise Professionals (REPs): CPDs\n\n\n\n\n\n\n\n\n\n\nCancellations and REFUNDs POLICY\n\n\n\n\nIf you need to cancel your workshop registration\, you may be eligible for a partial refund\, depending upon length of time until the event\, according to the following terms. Workshops are planned based on the number of registrations several months in advance\, so we cannot offer full refunds if you must cancel. \n\n\n\nIf an event is canceled by GBT/ Animal Flow HQ for any reason\, a full refund (with no processing fee) shall be provided. \n\n\n\n\nOption 1: Participant Substitution\n\n\n\nYou can always transfer your registration to somebody else\, although it is your responsibility to identify the individual and make any financial arrangements directly with them. Contact us to arrange having the other person attend in your place. \n\n\n\n\n\nOption 2: Transfer Credit\n\n\n\nYou can transfer the full value of your registration to another workshop. Transfer credits expire after two years. \n\n\n\nThere is a $75 transfer fee for no-shows or cancellations within two weeks of the event.   \n\n\n\nAnyone who cancels within two weeks of the workshop\, under any circumstance\, will automatically fall under this transfer category. \n\n\n\n\n\nOption 3: PARTIAL CASH REFUND\n\n\n\nIf you are requesting a cash refund\, the amount of refund is dependent on the length of time until the event as listed below. Refund amount is based on the total workshop price\, so if you have paid only the deposit the refund amount is pro-rated as noted. \n\n\n\nA $30 processing is always deducted from any refund amount. \n\n\n\n\n60 days or more until event: 100% of Total Price (or 100% of deposit) \n\n\n\n45-60 days: 75% of Total Price (or 50% of deposit); \n\n\n\n30-45 days: 50% of Total Price (or $0% of deposit);\n\n\n\n15-29 days: 25% of Total Price (or 0% of deposit); \n\n\n\nTwo weeks or less until the event: $0. \n\n\n\n\nRequests for cash refunds (amounts based on the schedule above) must be made within two weeks of your cancellation. Otherwise\, you will be provided with a transfer credit for a future workshop. \n\n\n\n\n\n\n\n\n\nEVENT ORGANIZER\n\n\n\n\n\nFor more information contact the event manager:
URL:https://animalflow.com/event/l2-virtual-sep-2026/
CATEGORIES:All Workshops,Canada,Europe,Level 2,MI Rosh,North & South America,Online,Online L2,United Kingdom,United States
ATTACH;FMTTYPE=image/png:https://animalflow.com/wp-content/uploads/2024/01/Photo-Dec-13-2023-12-18-44-PM-1.png
LOCATION:https://animalflow.com/event/l2-virtual-sep-2026/
END:VEVENT
END:VCALENDAR