BEGIN:VCALENDAR
VERSION:2.0
PRODID:-//Animal Flow - ECPv6.15.12.2//NONSGML v1.0//EN
CALSCALE:GREGORIAN
METHOD:PUBLISH
X-ORIGINAL-URL:https://animalflow.com
X-WR-CALDESC:Events for Animal Flow
REFRESH-INTERVAL;VALUE=DURATION:PT1H
X-Robots-Tag:noindex
X-PUBLISHED-TTL:PT1H
BEGIN:VTIMEZONE
TZID:Asia/Seoul
BEGIN:STANDARD
TZOFFSETFROM:+0900
TZOFFSETTO:+0900
TZNAME:KST
DTSTART:20250101T000000
END:STANDARD
END:VTIMEZONE
BEGIN:VTIMEZONE
TZID:Asia/Hong_Kong
BEGIN:STANDARD
TZOFFSETFROM:+0800
TZOFFSETTO:+0800
TZNAME:HKT
DTSTART:20250101T000000
END:STANDARD
END:VTIMEZONE
BEGIN:VTIMEZONE
TZID:UTC
BEGIN:STANDARD
TZOFFSETFROM:+0000
TZOFFSETTO:+0000
TZNAME:UTC
DTSTART:20250101T000000
END:STANDARD
END:VTIMEZONE
BEGIN:VEVENT
DTSTART;TZID=Asia/Seoul:20260404T000000
DTEND;TZID=Asia/Seoul:20260405T235959
DTSTAMP:20260422T171954
CREATED:20251016T122248Z
LAST-MODIFIED:20251211T082450Z
UID:10000917-1775260800-1775433599@animalflow.com
SUMMARY:Animal Flow Level 1 Busan (Apr 2026)
DESCRIPTION:비슷한 이벤트 찾기 :\n\n\n\n\n\n\n	Event Categories: All Workshops\, Asia\, Korea\, Level 1 Instructor Certification\, MI Jeseung\n\n\n\n\n\n\n\n\n일정\n\n\n\n2026년 4월 4일~5일 \n\n\n\n토요일: 오전 9시 – 오후 4시 \n\n\n\n일요일: 오전 9시 – 오후 4시 \n\n\n\n\n\n\n\n\n\n\n\n\n\n\n\n마스터 인스트럭터\n\n\n\n이제승\n\n\nJESEUNG LEE\n\n\nfrom \n\n\nSeoul\, Korea \n\n\n워크숍에서 사용 언어: 한국어 \n\n\n\n\n\n\n\n\n\n\n\n\n\n교육비\n\n\n\n정규비용: \n\n\n\n105만원 \n\n\n\n조기할인 \n\n\n\n95만원 (워크숍 2주전까지) \n\n\n\n결제방식: \n\n\n\n2회분납 가능 \n\n\n\n\n\n\n\n\n행사 주최\n\n\n\n\n\n자세한 내용은 문의주세요 : \n\n\n\nANIMAL FLOW KOREA 홈페이지를 통해 등록하기 \n\n\n\n\n\n\n\n\n\n레벨1 워크숍은 기본30가지 동작의 상위호환과 하위호환 및 변형동작을 집중적으로 배우는 2일간의 과정입니다. 각 동작들을 언제\, 어떻게 사용하는지와 플로우를 구성하는 방법을 배우게 됩니다.  \n\n\n\n\n\n\n\n\n\n\n\n\n\n교육장소\n\n\n\n\n\n\n\n\n지도:   https://naver.me/x5GreQrI \n\n\n\n\n\n\n\n\n개요\n\n\n\n\n\n\n2일간의 과정에서는\, Wrist Mobilizations\, Activations\, Traveling Forms\, Form Specific Stretches\, Switches & Transitions\, Flow인 애니멀플로우의 6대 요소를 심층적으로 배우게 됩니다. \n\n\n\n첫째날은\, 애니멀플로우 수련의 기초를 쌓는데 중점을 둡니다. 애니멀플로우 시스템의 핵심인 4대 근간과 함께 네발기기(QMT; Quadrupedal Movement Training)운동의 과학적이고 근거에 기반한 이점을 배우며 시작합니다. 트레블링 폼의 “ABC’s”와 스위치 & 트랜지션 카테고리를 소개하고마무리 합니다.   \n\n\n\n둘째날은\, 첫 째날 다룬 동작들을 체계적으로 완성하고\, 유려한 동작을 만드는데 집중합니다. 전신의 가동성을 위한 폼 스페시픽 스트레칭과 스위치 & 트랜지션의  4가지 카테고리를 배웁니다. 또한\, 앞서 배운 동작들로 구성한 비스트 플로우를 익히고\, 플로우 구성법\, 콜아웃 방법\, 고객 프로그래밍에 대해학습하게 됩니다.  \n\n\n\n\n\n\n\n\n\n\n\n\n\n\n포함사항\n\n\n\n\n등록시 워크숍을 준비하고\, 인스트럭터 인증 절차를 완료하는데 필요한 모든 것들을 제공합니다. 우리는 등록 이외의 수수료를 부과하지 않고\, 자격유지를 위한 비용도 없습니다. 등록에는 다음 사항이 포함됩니다.  \n\n\n\n\n다운로드와 스트리밍이 가능한 레벨1 동작에 대한 교육영상\n\n\n\n레벨1 메뉴얼\n\n\n\n비공개 애니멀플로우 인스트럭터 페이스북 그룹 가입\n\n\n\n콜아웃\, 코칭과 큐잉\, 기타 교육자료를 위한  Animal Flow 웹사이트 접속가능\n\n\n\nMovement Matrix 영상과 PDF 제공\n\n\n\n지속적 교육학점(CEU)을 위한 교육수료증명서\n\n\n\n인증 인스트럭터 및 플로이스트를 위한 완료 절차 옵션\n\n\n\nAnimal Flow On Demand 구독서비스 할인\n\n\n\n애니멀플로우 멘토십에 등록 가능\n\n\n\n\n\n\n\n워크숍 참가 자격\n\n\n\n\n피트니스 전문가 또는 피트니스 애호가 누구나 참여할 수 있습니다.(인스트럭터가 되기 위한 요건은 다음 섹션을 참조하세요) \n\n\n\n\n만 18세 이상\n\n\n\n누구나 참여 가능합니다. 애니멀플로우에 대한 사전 경험은 없어도 됩니다.\n\n\n\n네발기기로 자기 체중을 지지할 정도의 체력이 필요하고\, 의학적인 문제가 없어야 합니다. \n\n\n\n\n\n\n\n\n\n\n\n자격 인증 옵션\n\n\n\n\n레벨 1 워크숍을 수강하는 것은 인증된 애니멀플로우 인스트럭터 또는 공식 플로이스트가 되는 첫 번째 단계입니다. \n\n\n\n\n애니멀플로우 인스트럭터 자격  CERTIFIED ANIMAL FLOW INSTRUCTOR \n\n\n\n피티니스 전문가는 인스트럭터가 될 수 있으며 개인지도\, 그룹수업 또는 다른 피트니스 프로그램과 연계하여 애니멀플로우를 지도할 수 있습니다.  \n\n\n\n인스트럭터가 되려면\, 워크숍 후 시험 과정을 완료하고\, 피트니스\, 요가 또는 무술지도자 등의 자격을 증명해야 합니다. 시험 과정은 온라인 30문제 시험을 완료하고\,  수행능력을 보여주는 두 개의 비디오를 제출해야 합니다. 워크숍 후 최대 180일 이내에는 추가 수수료 없이 시험 과정을 완료할 수 있습니다.  \n\n\n\n피트니스 전문가로의 자격증명 여부는 workshops@animalflow.com으로 문의 주세요. 자격증명은 지역과 분야 따라 다르지만\, 일반적으로 관련분야(피트니스\, 요가\, 물리치료\, 운동과학\, 무술)의 자격증이나 학위를 인정합니다. 영양학 또는 라이프코칭 자격은 허용하지 않습니다 . \n\n\n\n\n\n공식 플로우이스트  OFFICIAL FLOWIST \n\n\n\n피트니스 전문가가 아니어도 자신을 위해 워크숍을 수강할 수 있고\, 피트니스 자격증을 먼저 취득하지 않으면  인스트럭터가 될 수 없습니다. 공식 플로우이스트를 취득하기 위해서는 테스트 절차를 거쳐야 합니다.  \n\n\n\n공식 플로우이스트가 된 후 전문 피트니스 자격을 받게 되면 인스트럭터가 될 수 있습니다.  \n\n\n\n\n\n\n\n지속적교육학점\n\n\n\n\n레벨1 과정은 피트니스 분야의 여러 인증기관에 교육학점을 제공하도록 승인되었습니다.  \n\n\n\n\n\n\n\nNational Academy of Sports Medicine (NASM): 1.1 CEUS\n\n\n\n\n\n\n\nAthletics and Fitness Association of America (AFAA): 11 CEUs\n\n\n\n\n\n\n\nAmerican Council on Exercise (ACE): 1.1 CEUs\n\n\n\n\n\n\n\ncanfitpro Canadian Fitness Professionals: 4 CECs\n\n\n\n\n\n\n\nNew Zealand Registered Exercise Professionals (REPs): 16 CPDs\n\n\n\n\n\n\n\n\n\n\n취소 및 환불 정책\n\n\n\n\n워크숍 등록을 취소해야 하는 경우\, 다음 조건에  맞춰 남은 시간에 따라 부분 환불을 받을 수 있습니다. 워크숍은 몇 달 전에 등록자 수를 기준으로 계획되므로\, 취소 시 전액환불을 제공할 수 없습니다. \n\n\n\nGBT/Animal Flow 본사에서 이벤트를 취소할 경우에는 전액 환불됩니다.  \n\n\n\n\n옵션1: 참가자 양도\n\n\n\n등록은 다른 사람에 양도할 수 있고\, 양도할 사람과의 협의는 본인의 책임입니다. 양도할 경우 문의해 주세요. \n\n\n\n\n\n옵션 2: 워크숍 연기\n\n\n\n다른 워크숍으로 연기할 수 있습니다. 기한은  2년 후에 만료됩니다. 이벤트 2주이내에 취소하는 경우 10만원의 수수료가 부과됩니다. 어떠한 상황에서도 워크숍 2주이내에 취소하는 경우 자동으로 이 조건을 적용합니다.  \n\n\n\n\n\n옵션 3: 환불\n\n\n\n환불을 원할 경우\, 워크숍까지 남은 기간에 따라 달라집니다.  \n\n\n\n\n30 일 전까지 – 100% 환불\n\n\n\n 25일 전까지 – 75% 환불\n\n\n\n 20일 전까지 – 50% 환불\n\n\n\n 10일 전까지 – 30% 환불\n\n\n\n 10일  이후 환불불가
URL:https://animalflow.com/event/l1-busan-apr-2026/
LOCATION:Busan: Filament Pilates 필라멘트 필라테스 동대신점\, 14 Daeshin Park-ro 2nd floor / 대신공원로 14 2층\, Busan 부산\, Seo-gu 서구\, Korea\, Republic of
CATEGORIES:All Workshops,Asia,Korea,Level 1 Instructor Certification,MI Jeseung
ATTACH;FMTTYPE=image/png:https://animalflow.com/wp-content/uploads/2023/12/Photo-Dec-13-2023-12-18-43-PM.png
GEO:35.1192431;129.0165156
X-APPLE-STRUCTURED-LOCATION;VALUE=URI;X-ADDRESS=Busan: Filament Pilates 필라멘트 필라테스 동대신점 14 Daeshin Park-ro 2nd floor / 대신공원로 14 2층 Busan 부산 Seo-gu 서구 Korea Republic of;X-APPLE-RADIUS=500;X-TITLE=14 Daeshin Park-ro 2nd floor / 대신공원로 14 2층:geo:129.0165156,35.1192431
END:VEVENT
BEGIN:VEVENT
DTSTART;TZID=Asia/Hong_Kong:20260418T000000
DTEND;TZID=Asia/Hong_Kong:20260419T235959
DTSTAMP:20260422T171954
CREATED:20251211T221611Z
LAST-MODIFIED:20251211T221614Z
UID:10000985-1776470400-1776643199@animalflow.com
SUMMARY:Animal Flow Level 2 Hong Kong (Apr 2026)
DESCRIPTION:Find similar events: \n\n\n\n\n\n\n	Event Categories: All Workshops\, Asia\, Korea\, Level 1 Instructor Certification\, MI Jeseung\n\n\n\n\n\n\n\n\nWHEN\n\n\n\nApril 18-19\, 2026 \n\n\n\nSaturday and Sunday \n\n\n\n9:00am – 6:00pm \n\n\n\n\n\n\n\n\n\n\n\n\n\n\n\nMASTER INSTRUCTOR\n\n\nRICHARD SCRIVENER\n\n\nfrom \n\n\nLondon\, UK \n\n\nLanguage for this workshop:  English \n\n\n\n\n\n\n\n\n\n\n\n\n\nCOST\n\n\n\nPRICE \n\n\n\n6000 HKD \n\n\n\n\n\n\n\n\nEVENT ORGANIZER\n\n\n\n\n\nTo register or get more information\, please contact Optimum Performance Studio in Hong Kong \n\n\n\nGO TO REGISTRATION PAGE ON OPS WEBSITE  \n\n\n\nEnquiry Hotline：+852 2868 5170 \n\n\n\n\n\n\n\n\n\nLevel 2 takes your Animal Flow practice to a higher level. Building upon the strong foundations learned in Level 1\, the workshop teaches 10 more new moves\, as well as progressions for the Tuck Balance. You’ll delve into more advanced concepts like energy transfers\, tempo changes and using animal locomotion in Flows\, while engaging in intermediate level flow design. \n\n\n\n\n\n\n\n\n\n\n\n\n\nEVENT LOCATION\n\n\n\n\n\n\n\n\n\n\n\n\n\n\n\nAbout the Course\n\n\n\n\n\n\n\n\n\n\nWhile Level 1 is focused on providing an introduction to Quadrupedal Movement Training and learning the foundational AF movements\, Level 2 emphasizes exploring more complex movements and bringing in more creativity.   \n\n\n\nParticipants will learn how to successfully perform the ten new L2 movements\, as well as how to correctly integrate the movements with L1 to create extended Flows with an increased degree of complexity and intensity. Participants also learn how to instruct the movements and incorporate them into a training program. Special attention is paid to  understanding how the L2 movements train the fascial slings of the body; understanding the role of dissipating force\, fluidity\, and leverage in the advanced movements; and understanding how to instruct a range of progressive drills and conditioning exercises that form the introduction to hand balancing practice.  \n\n\n\n\n\nThe full two-day agenda includes 16 hours of instruction: \n\n\n\n\nIntermediate flow design\n\n\n\nReview of key Level 1 movements\n\n\n\nIntro to Hand Balancing: Tuck Balance Progressions\n\n\n\nNew Transitions: Reaching Underswitch; Reaching Underswitch to Deep Ape; Scorpion Sweeps; Roll Throughs; and Crocodile Rolls\, Pop Switches and Pop Outs;\n\n\n\nNew Traveling forms: Bear\, Leopard\, Crocodile;\n\n\n\nUsing traveling forms as a “link” for switches and transitions;\n\n\n\nHow and why to introduce tempo change and energy redirects into a flow;\n\n\n\n\n\n\n\n\n\nWhat’s Included\n\n\n\n\n\n\n\n\n\n\n\n\nYour registration includes everything you need to prepare for the workshop and complete the process to become certified in L2. Your registration covers: \n\n\n\n\nAccess to the full library of instructional videos for all Level 2 movements\, to download or stream online\n\n\n\nDigital copy of the L2 Student Manual\n\n\n\nAccess to the Level 2 Instructor Resource section of the Animal Flow website\, where you’ll find the tutorials\, manuals\, test information\, and  other resources\n\n\n\nAccess to the Tuck Balance Training Guide video\n\n\n\nCertificate of Completion\, including proof of participation for Continuing Education credits\n\n\n\nOption to complete the certification process to become a Certified L2 Instructor or L2 Official Flowist\n\n\n\n\n\n\n\n\n\nWorkshop Prerequisites\n\n\n\n\nAnyone who has taken the Level 1 workshop can enroll in L2. \n\n\n\n\nAttendees must be at least 18 years old.\n\n\n\nYou much have taken L1\, but you do not need to be certified in L1. You should be proficient with all of the L1 movements and call out language.\n\n\n\nAs with L1\, you should be physically fit enough to support your own bodyweight in quadrupedal positions (all fours) and be medically cleared to participate in physical activities. \n\n\n\n\n\n\n\n\n\n\n\nCertification Options\n\n\n\n\nYou can test out to become a Certified L2 AF Instructor or Flowist. \n\n\n\n\nCERTIFIED L2 ANIMAL FLOW INSTRUCTORS \n\n\n\nFitness and yoga professionals who are already certified in L1 can complete the test to become certified in L2.  \n\n\n\nThe test includes 3 parts:   \n\n\n\n\nCreate and perform a 3-minute Flow that meets the specified criteria;  \n\n\n\nTeach 3 of the new movements to a client who already knows L1; \n\n\n\nDemonstrate ability to hold a Tuck Balance \n\n\n\n\nTests are due within 90 days of the workshop. You can request an extension for the Tuck Balance component if needed.  \n\n\n\n\n\nOFFICIAL L2 FLOWIST \n\n\n\nNon-professionals can attain the title of Official L2 Flowist. You must complete L1 first. The test is the same as for Instructors. \n\n\n\n\n\n\n\nContinuing Education Credits\n\n\n\n\nThe Level 2 course is approved to provide Continuing Education Credits from some of the top accreditation entities in the field of physical fitness: \n\n\n\n\n\n\n\nNational Academy of Sports Medicine (NASM): 1.5 CEUS\n\n\n\n\n\n\n\nAthletics and Fitness Association of America (AFAA): 1.5 CEUs\n\n\n\n\n\n\n\nAmerican Council on Exercise (ACE): 15 CEUs\n\n\n\n\n\n\n\ncanfitpro Canadian Fitness Professionals: 4 CECs\n\n\n\n\n\n\n\nNew Zealand Registered Exercise Professionals (REPs): CPDs\n\n\n\n\n\n\n\n\n\n\nCancellations and REFUNDs POLICY\n\n\n\n\nSee the OPS website for cancellation / refund policy: Optimum Performance Studio
URL:https://animalflow.com/event/afl2_hongkong_0426/
CATEGORIES:All Workshops,Asia,Hong Kong,Level 2,MI Rich
ATTACH;FMTTYPE=image/png:https://animalflow.com/wp-content/uploads/2024/01/Photo-Dec-13-2023-12-18-44-PM-1-1.png
END:VEVENT
BEGIN:VEVENT
DTSTART;TZID=UTC:20260418T000000
DTEND;TZID=UTC:20260419T235959
DTSTAMP:20260422T171954
CREATED:20250924T225454Z
LAST-MODIFIED:20260413T191355Z
UID:10000898-1776470400-1776643199@animalflow.com
SUMMARY:Animal Flow Level 1 Delhi (Apr 2026)
DESCRIPTION:WHEN\n\n\n\nApril 18-19\, 2026 \n\n\n\n\n\n\n\n\n\n\n\n\n\n\n\n\n\nMASTER INSTRUCTOR\n\n\nSWETHA DEVARAJ\n\n\nfrom \n\n\nBangalore\, India \n\n\nLanguage for this workshop:  English \n\n\n\n\n\n\n\n\n\n\n\n\n\nCOST\n\n\n\nREGULAR PRICE \n\n\n\n30\,330 INR (+GST) \n\n\n\nEARLY BIRD DISCOUNT \n\n\n\n28\,600 INR (+GST) for first 10 registrations \n\n\n\nNOTE ON  \n\n\n\nThe registration price for workshops held in India are discounted by 50%\, from the regular worldwide price of  60\,000/INR ($695 USD). One of the ways we keep the price lower is by separating out the cost to complete the certification process after the workshop. The cost for that  will be 4333 INR ($50 USD) INR to be paid at the time of your test submission.  \n\n\n\n\n\n\n\n\nEVENT ORGANIZER\n\n\n\n\n\nTo register or get more information\, please contact Animal  Flow India on WhatsApp:   \n\n\n\nMessage AF India WhatsApp\n\n\n\n\n\n\n\n\n\nL1 is an intensive two-day workshop where you’ll learn all 30 Level 1 moves\, including regressions\, progressions\, and variations for all skill levels. You’ll explore how and when to use each movement individually\, as well as how to link them together into flows of your own design. \n\n\n\n\n\n\n\n\n\n\n\n\n\nEVENT LOCATION\n\n\n\n\n\n\n\n\n\n\n\n\n\n\n\nAbout the Course\n\n\n\n\n\n\nThroughout the 2 day curriculum\, you’ll learn the 6 components of Animal Flow\, including Wrist Mobilizations; Activations; Traveling Forms; Form Specific Stretches; Switches and Transitions\, and Flows. \n\n\n\nDay one is focused on building the foundations of your Animal Flow practice. You’ll begin by learning the scientific\, evidence-based benefits of Quadrupedal Movement Training along with the Four Pillars that the AF system is built upon. The movements covered in day one ranges from Activations to the “ABC’s” of Traveling Forms and finishes with an introduction to Switches & Transitions. \n\n\n\nDay two systematically builds upon the movements that were taught in day one\, with a strong emphasis on movement fluidity. The day begins with a series of full body mobilizing sequences known as Form Specific Stretches\, followed by 4 categories of Switches & Transitions. The day concludes with a sample Flow known as the Beast Flow\, where all the movements covered in the course come together. The focus of day two is not only on the proper execution of each movement\, but includes flow design\, the animal flow language and how to integrate the AF techniques into your clients programming.  \n\n\n\n\n\n\n\n\n\n\n\n\n\n\nWhat’s Included\n\n\n\n\nYour registration includes everything you need to prepare for the workshop and complete the two-day event.  Your registration covers: \n\n\n\n\nAccess to the full library of instructional videos for all Level 1 movements\, to download or stream online\n\n\n\nDigital copy of the L1 Student Manual\n\n\n\nAdmission to the private AF Instructors Facebook group\n\n\n\nAccess to the Instructor Resource section of the Animal Flow website\, where you’ll find the full-length L1 Call Out language tutorial\, a Coaching & Cueing section\, and other resources\n\n\n\nMovement Matrix video tutorial and downloadable PDF\n\n\n\nCertificate of Completion\, including proof of participation for Continuing Education credits\n\n\n\nDiscount for subscription to Animal Flow On Demand\n\n\n\nEligibility to register for one of the weeklong Animal Flow Mentorships\n\n\n\n\nIf you would like to complete the test process after the workshop to become a Certified Animal Flow Instructor or Official Flowist\, you will pay the 4333/INR ($50) fee at the time you submit your test. There are no annual renewal fees.  \n\n\n\n\n\n\nWorkshop Prerequisites\n\n\n\n\nBoth fitness professionals and non-professional fitness enthusiasts are welcome to attend the workshop. (See the following Certification Options section for the requirements to become a Certified AF Instructor) \n\n\n\n\nAttendees must be at least 18 years old.\n\n\n\nIndividuals of all skill levels can participate. Prior experience with Animal Flow is not required.\n\n\n\nYou should be physically fit enough to support your own bodyweight in quadrupedal positions (all fours) and be medically cleared to participate in physical activities. \n\n\n\n\n\n\n\n\n\n\n\nCertification Options\n\n\n\n\nTaking the Level 1 workshop is the first step toward becoming a Certified Animal Flow Instructor or Official Flowist. \n\n\n\n\nCERTIFIED ANIMAL FLOW INSTRUCTORS \n\n\n\nFitness professionals are eligible to become Certified AF Instructors\, allowing them to teach AF in personal training sessions or group fitness classes\, and/or integrate it into other fitness programming. To become certified\, participants must complete the test out process after the workshop and provide proof of credentials as a fitness\, yoga or martial arts professional. The test out process includes  submitting two videos that demonstrate specific areas of proficiency.  \n\n\n\nStudents who complete the India L1 workshops will be a $50 test fee at the time they submit their test.  The tests  are due within 180 days after the workshop in order to avoid late fees.  \n\n\n\nIf you have questions regarding whether your fitness professional credentials would qualify you to become certified\, please email workshops@animalflow.com. While credential types vary widely between regions and disciplines\, we generally look for certifications or degrees in relevant fields (fitness\, yoga\, physical therapy\, exercise science\, martial arts) from accreditation organizations. We do not accept nutrition or life coaching certifications. \n\n\n\n\n\nOFFICIAL FLOWIST \n\n\n\nNon-professionals are welcome to take the course for their own benefit\, though are not eligible to become a Certified AF Instructor without first attaining a qualifying fitness credential. These individuals can complete the test out process to attain the title of Official Flowist. \n\n\n\nIf someone has earned the title of Official Flowist and then goes on to attain a professional fitness credential\, they can update their title to Certified Instructor. \n\n\n\n\n\n\n\nContinuing Education Credits\n\n\n\n\nThe Level 1 course is approved to provide Continuing Education Credits from some of the top accreditation entities in the field of physical fitness: \n\n\n\n\n\n\n\nNational Academy of Sports Medicine (NASM): 1.1 CEUS\n\n\n\n\n\n\n\nAthletics and Fitness Association of America (AFAA): 11 CEUs\n\n\n\n\n\n\n\nAmerican Council on Exercise (ACE): 1.1 CEUs\n\n\n\n\n\n\n\ncanfitpro Canadian Fitness Professionals: 4 CECs\n\n\n\n\n\n\n\nNew Zealand Registered Exercise Professionals (REPs): 16 CPDs\n\n\n\n\n\n\n\n\n\n\nCancellations and REFUNDs POLICY\n\n\n\n\nIf you need to cancel your workshop registration\, you may be eligible for a partial refund\, depending upon length of time until the event\, according to the following terms. Workshops are planned based on the number of registrations several months in advance\, so we cannot offer full refunds if you must cancel. \n\n\n\nIf an event is canceled by Animal Flow India for any reason\, a full refund (with no processing fee) shall be provided. \n\n\n\n\nOption 1: Participant Substitution\n\n\n\nYou can always transfer your registration to somebody else\, although it is your responsibility to identify the individual and make any financial arrangements directly with them. Contact us to arrange having the other person attend in your place. There is no fee for this. \n\n\n\n\n\nOption 2: Transfer Credit\n\n\n\nYou can transfer the full value of your registration to another workshop. Transfer credits expire after two years. \n\n\n\nAnyone who cancels within two weeks of the workshop\, under any circumstance\, is not eligible for a cash refund\, and will automatically fall under this transfer credit category. \n\n\n\n\n\nOption 3: PARTIAL CASH REFUND\n\n\n\nIf you are requesting a cash refund\, the amount of refund is dependent on the length of time until the event as listed below. Refund amount is based on the total workshop price\, so if you have paid only the deposit the refund amount is pro-rated as noted. \n\n\n\nA $30 processing is always deducted from any refund amount. \n\n\n\n\n60 days or more until event: 100% of Total Price (or 100% of deposit) \n\n\n\n45-60 days: 75% of Total Price (or 50% of deposit); \n\n\n\n30-45 days: 50% of Total Price (or $0% of deposit);\n\n\n\n15-29 days: 25% of Total Price (or 0% of deposit); \n\n\n\nTwo weeks or less until the event: $0. \n\n\n\n\nRequests for cash refunds (amounts based on the schedule above) must be made within two weeks of your cancellation. Otherwise\, you will be provided with a transfer credit for a future workshop.
URL:https://animalflow.com/event/l1-delhi-apr-2026/
LOCATION:Knox Gurgaon\, Ground Floor\, 393\, Udyog Vihar Phase 3 Rd\, Phase II\, Udyog Vihar\, Sector 20\, Gurugram\, Haryana\, Delhi\, 122016\, India
CATEGORIES:All Workshops,Asia,India,Level 1 Instructor Certification,MI Swetha
ATTACH;FMTTYPE=image/png:https://animalflow.com/wp-content/uploads/2023/12/Photo-Dec-13-2023-12-18-42-PM.png
GEO:28.505621;77.0887398
X-APPLE-STRUCTURED-LOCATION;VALUE=URI;X-ADDRESS=Knox Gurgaon Ground Floor 393 Udyog Vihar Phase 3 Rd Phase II Udyog Vihar Sector 20 Gurugram Haryana Delhi 122016 India;X-APPLE-RADIUS=500;X-TITLE=Ground Floor\, 393\, Udyog Vihar Phase 3 Rd\, Phase II\, Udyog Vihar\, Sector 20:geo:77.0887398,28.505621
END:VEVENT
END:VCALENDAR